BEGIN:VCALENDAR
VERSION:2.0
PRODID:-//Schützenkreisverband Harburg-Stadt - ECPv6.15.18//NONSGML v1.0//EN
CALSCALE:GREGORIAN
METHOD:PUBLISH
X-WR-CALNAME:Schützenkreisverband Harburg-Stadt
X-ORIGINAL-URL:https://skvharburgstadt.de
X-WR-CALDESC:Veranstaltungen für Schützenkreisverband Harburg-Stadt
REFRESH-INTERVAL;VALUE=DURATION:PT1H
X-Robots-Tag:noindex
X-PUBLISHED-TTL:PT1H
BEGIN:VTIMEZONE
TZID:Europe/Berlin
BEGIN:DAYLIGHT
TZOFFSETFROM:+0100
TZOFFSETTO:+0200
TZNAME:CEST
DTSTART:20240331T010000
END:DAYLIGHT
BEGIN:STANDARD
TZOFFSETFROM:+0200
TZOFFSETTO:+0100
TZNAME:CET
DTSTART:20241027T010000
END:STANDARD
BEGIN:DAYLIGHT
TZOFFSETFROM:+0100
TZOFFSETTO:+0200
TZNAME:CEST
DTSTART:20250330T010000
END:DAYLIGHT
BEGIN:STANDARD
TZOFFSETFROM:+0200
TZOFFSETTO:+0100
TZNAME:CET
DTSTART:20251026T010000
END:STANDARD
BEGIN:DAYLIGHT
TZOFFSETFROM:+0100
TZOFFSETTO:+0200
TZNAME:CEST
DTSTART:20260329T010000
END:DAYLIGHT
BEGIN:STANDARD
TZOFFSETFROM:+0200
TZOFFSETTO:+0100
TZNAME:CET
DTSTART:20261025T010000
END:STANDARD
END:VTIMEZONE
BEGIN:VEVENT
DTSTART;TZID=Europe/Berlin:20250405T183000
DTEND;TZID=Europe/Berlin:20250405T233000
DTSTAMP:20260422T145320
CREATED:20240514T124746Z
LAST-MODIFIED:20240514T124747Z
UID:2126-1743877800-1743895800@skvharburgstadt.de
SUMMARY:Kreiskönigsball 2025
DESCRIPTION:
URL:https://skvharburgstadt.de/event/kreiskoenigsball-2025/
CATEGORIES:Kreisverband
ATTACH;FMTTYPE=image/jpeg:https://skvharburgstadt.de/wp-content/uploads/2024/04/KKB2.jpg
END:VEVENT
BEGIN:VEVENT
DTSTART;TZID=Europe/Berlin:20250412T090000
DTEND;TZID=Europe/Berlin:20250413T180000
DTSTAMP:20260422T145320
CREATED:20241002T210824Z
LAST-MODIFIED:20241002T211030Z
UID:2341-1744448400-1744567200@skvharburgstadt.de
SUMMARY:KM Licht und LG 3x20
DESCRIPTION:
URL:https://skvharburgstadt.de/event/km-licht-und-lg-3x20/
LOCATION:Schützenverein Neuenfelde 1912 e.V.\, Arp-Schnitger-Stieg 37b\, Hamburg\, 21129
CATEGORIES:Kreismeisterschaft
END:VEVENT
END:VCALENDAR