BEGIN:VCALENDAR
VERSION:2.0
PRODID:-//Schützenkreisverband Harburg-Stadt - ECPv6.15.18//NONSGML v1.0//EN
CALSCALE:GREGORIAN
METHOD:PUBLISH
X-WR-CALNAME:Schützenkreisverband Harburg-Stadt
X-ORIGINAL-URL:https://skvharburgstadt.de
X-WR-CALDESC:Veranstaltungen für Schützenkreisverband Harburg-Stadt
REFRESH-INTERVAL;VALUE=DURATION:PT1H
X-Robots-Tag:noindex
X-PUBLISHED-TTL:PT1H
BEGIN:VTIMEZONE
TZID:Europe/Berlin
BEGIN:DAYLIGHT
TZOFFSETFROM:+0100
TZOFFSETTO:+0200
TZNAME:CEST
DTSTART:20240331T010000
END:DAYLIGHT
BEGIN:STANDARD
TZOFFSETFROM:+0200
TZOFFSETTO:+0100
TZNAME:CET
DTSTART:20241027T010000
END:STANDARD
BEGIN:DAYLIGHT
TZOFFSETFROM:+0100
TZOFFSETTO:+0200
TZNAME:CEST
DTSTART:20250330T010000
END:DAYLIGHT
BEGIN:STANDARD
TZOFFSETFROM:+0200
TZOFFSETTO:+0100
TZNAME:CET
DTSTART:20251026T010000
END:STANDARD
BEGIN:DAYLIGHT
TZOFFSETFROM:+0100
TZOFFSETTO:+0200
TZNAME:CEST
DTSTART:20260329T010000
END:DAYLIGHT
BEGIN:STANDARD
TZOFFSETFROM:+0200
TZOFFSETTO:+0100
TZNAME:CET
DTSTART:20261025T010000
END:STANDARD
END:VTIMEZONE
BEGIN:VEVENT
DTSTART;TZID=Europe/Berlin:20250301T160000
DTEND;TZID=Europe/Berlin:20250301T200000
DTSTAMP:20260422T161043
CREATED:20240308T105807Z
LAST-MODIFIED:20240308T110944Z
UID:1431-1740844800-1740859200@skvharburgstadt.de
SUMMARY:Bester aller ehemaligen Kreiskönige
DESCRIPTION:
URL:https://skvharburgstadt.de/event/bester-aller-ehemaligen-kreiskoenige/
LOCATION:Schützenverein Moorwerder von 1951 e.V.\, Bauernstegel 5\, Hamburg\, 21109\, Deutschland
CATEGORIES:Kreisverband
END:VEVENT
END:VCALENDAR