BEGIN:VCALENDAR
VERSION:2.0
PRODID:-//Schützenkreisverband Harburg-Stadt - ECPv6.15.18//NONSGML v1.0//EN
CALSCALE:GREGORIAN
METHOD:PUBLISH
X-ORIGINAL-URL:https://skvharburgstadt.de
X-WR-CALDESC:Veranstaltungen für Schützenkreisverband Harburg-Stadt
REFRESH-INTERVAL;VALUE=DURATION:PT1H
X-Robots-Tag:noindex
X-PUBLISHED-TTL:PT1H
BEGIN:VTIMEZONE
TZID:Europe/Berlin
BEGIN:DAYLIGHT
TZOFFSETFROM:+0100
TZOFFSETTO:+0200
TZNAME:CEST
DTSTART:20230326T010000
END:DAYLIGHT
BEGIN:STANDARD
TZOFFSETFROM:+0200
TZOFFSETTO:+0100
TZNAME:CET
DTSTART:20231029T010000
END:STANDARD
BEGIN:DAYLIGHT
TZOFFSETFROM:+0100
TZOFFSETTO:+0200
TZNAME:CEST
DTSTART:20240331T010000
END:DAYLIGHT
BEGIN:STANDARD
TZOFFSETFROM:+0200
TZOFFSETTO:+0100
TZNAME:CET
DTSTART:20241027T010000
END:STANDARD
BEGIN:DAYLIGHT
TZOFFSETFROM:+0100
TZOFFSETTO:+0200
TZNAME:CEST
DTSTART:20250330T010000
END:DAYLIGHT
BEGIN:STANDARD
TZOFFSETFROM:+0200
TZOFFSETTO:+0100
TZNAME:CET
DTSTART:20251026T010000
END:STANDARD
END:VTIMEZONE
BEGIN:VEVENT
DTSTART;TZID=Europe/Berlin:20241105T193000
DTEND;TZID=Europe/Berlin:20241105T213000
DTSTAMP:20260422T215216
CREATED:20240107T212622Z
LAST-MODIFIED:20240107T212623Z
UID:1388-1730835000-1730842200@skvharburgstadt.de
SUMMARY:Sitzung Sportkommision / Sportleiter
DESCRIPTION:
URL:https://skvharburgstadt.de/event/sitzung-sportkommision-sportleiter/
LOCATION:Schützenverein Rönneburg u. Umgegend von 1897 e.V.\, Küsterweg 15\, Hamburg\, 21079\, Deutschland
CATEGORIES:Kreisverband
END:VEVENT
BEGIN:VEVENT
DTSTART;TZID=Europe/Berlin:20241124T000000
DTEND;TZID=Europe/Berlin:20241124T235959
DTSTAMP:20260422T215216
CREATED:20240916T070008Z
LAST-MODIFIED:20241005T142602Z
UID:2206-1732406400-1732492799@skvharburgstadt.de
SUMMARY:Kreis-Schießsport-Dreikampf der Jugend um den TriTop-Pokal
DESCRIPTION:Auschreibung Tri-Top-Pokal 2024Herunterladen
URL:https://skvharburgstadt.de/event/kreis-schiesssport-dreikampf-der-jugend-um-den-tritop-pokal/
CATEGORIES:Kreisverband
END:VEVENT
END:VCALENDAR