BEGIN:VCALENDAR
VERSION:2.0
PRODID:-//Schützenkreisverband Harburg-Stadt - ECPv6.15.18//NONSGML v1.0//EN
CALSCALE:GREGORIAN
METHOD:PUBLISH
X-WR-CALNAME:Schützenkreisverband Harburg-Stadt
X-ORIGINAL-URL:https://skvharburgstadt.de
X-WR-CALDESC:Veranstaltungen für Schützenkreisverband Harburg-Stadt
REFRESH-INTERVAL;VALUE=DURATION:PT1H
X-Robots-Tag:noindex
X-PUBLISHED-TTL:PT1H
BEGIN:VTIMEZONE
TZID:Europe/Berlin
BEGIN:DAYLIGHT
TZOFFSETFROM:+0100
TZOFFSETTO:+0200
TZNAME:CEST
DTSTART:20230326T010000
END:DAYLIGHT
BEGIN:STANDARD
TZOFFSETFROM:+0200
TZOFFSETTO:+0100
TZNAME:CET
DTSTART:20231029T010000
END:STANDARD
BEGIN:DAYLIGHT
TZOFFSETFROM:+0100
TZOFFSETTO:+0200
TZNAME:CEST
DTSTART:20240331T010000
END:DAYLIGHT
BEGIN:STANDARD
TZOFFSETFROM:+0200
TZOFFSETTO:+0100
TZNAME:CET
DTSTART:20241027T010000
END:STANDARD
BEGIN:DAYLIGHT
TZOFFSETFROM:+0100
TZOFFSETTO:+0200
TZNAME:CEST
DTSTART:20250330T010000
END:DAYLIGHT
BEGIN:STANDARD
TZOFFSETFROM:+0200
TZOFFSETTO:+0100
TZNAME:CET
DTSTART:20251026T010000
END:STANDARD
END:VTIMEZONE
BEGIN:VEVENT
DTSTART;TZID=Europe/Berlin:20240907T000000
DTEND;TZID=Europe/Berlin:20240907T235959
DTSTAMP:20260423T021502
CREATED:20240107T211652Z
LAST-MODIFIED:20240821T171050Z
UID:1374-1725667200-1725753599@skvharburgstadt.de
SUMMARY:Kreiskinderkönig Lichtschießen
DESCRIPTION:Kinderkönig_2024_Einladung_und_AusschreibungHerunterladen
URL:https://skvharburgstadt.de/event/kreiskinderkoenig-lichtschiessen/
LOCATION:Schützenverein Neuenfelde 1912 e.V.\, Arp-Schnitger-Stieg 37b\, Hamburg\, 21129
CATEGORIES:Kreisverband
END:VEVENT
BEGIN:VEVENT
DTSTART;TZID=Europe/Berlin:20240914T000000
DTEND;TZID=Europe/Berlin:20240914T235959
DTSTAMP:20260423T021502
CREATED:20240610T060257Z
LAST-MODIFIED:20240610T060258Z
UID:2142-1726272000-1726358399@skvharburgstadt.de
SUMMARY:Schlussschießen Rönneburg
DESCRIPTION:
URL:https://skvharburgstadt.de/event/schlussschiessen-roenneburg/
LOCATION:Schützenverein Rönneburg u. Umgegend von 1897 e.V.\, Küsterweg 15\, Hamburg\, 21079\, Deutschland
CATEGORIES:Vereinsveranstalltung
END:VEVENT
BEGIN:VEVENT
DTSTART;TZID=Europe/Berlin:20240920T000000
DTEND;TZID=Europe/Berlin:20240920T235959
DTSTAMP:20260423T021502
CREATED:20240107T212004Z
LAST-MODIFIED:20240821T171020Z
UID:1378-1726790400-1726876799@skvharburgstadt.de
SUMMARY:Kreisjugend-Königsschießen
DESCRIPTION:Jugendkönig_2024_Einladung_und_AusschreibungHerunterladen
URL:https://skvharburgstadt.de/event/kreisjugend-koenigsschiessen/
LOCATION:Eißendorfer Schützenverein von 1878 e.V.\, Strucksbarg 37a\, Hamburg\, 21077\, Deutschland
CATEGORIES:Kreisverband
END:VEVENT
BEGIN:VEVENT
DTSTART;TZID=Europe/Berlin:20240920T200000
DTEND;TZID=Europe/Berlin:20240920T203000
DTSTAMP:20260423T021502
CREATED:20240821T171307Z
LAST-MODIFIED:20240821T171308Z
UID:2182-1726862400-1726864200@skvharburgstadt.de
SUMMARY:Kreisjugendtag 2024
DESCRIPTION:Einladung_Kreisjugendtag_2024Herunterladen
URL:https://skvharburgstadt.de/event/kreisjugendtag-2024/
LOCATION:Eißendorfer Schützenverein von 1878 e.V.\, Strucksbarg 37a\, Hamburg\, 21077\, Deutschland
CATEGORIES:Kreisverband
END:VEVENT
BEGIN:VEVENT
DTSTART;TZID=Europe/Berlin:20240922T000000
DTEND;TZID=Europe/Berlin:20240922T235959
DTSTAMP:20260423T021502
CREATED:20240107T212101Z
LAST-MODIFIED:20240901T072526Z
UID:1380-1726963200-1727049599@skvharburgstadt.de
SUMMARY:Beste aller Kreisdamenköniginnen
DESCRIPTION:Einladung BaK neu_240816_192713_240829_182540Herunterladen
URL:https://skvharburgstadt.de/event/beste-aller-kreisdamenkoeniginnen/
LOCATION:Schützenverein Neuenfelde 1912 e.V.\, Arp-Schnitger-Stieg 37b\, Hamburg\, 21129
CATEGORIES:Kreisverband
END:VEVENT
END:VCALENDAR