BEGIN:VCALENDAR
VERSION:2.0
PRODID:-//Schützenkreisverband Harburg-Stadt - ECPv6.15.18//NONSGML v1.0//EN
CALSCALE:GREGORIAN
METHOD:PUBLISH
X-WR-CALNAME:Schützenkreisverband Harburg-Stadt
X-ORIGINAL-URL:https://skvharburgstadt.de
X-WR-CALDESC:Veranstaltungen für Schützenkreisverband Harburg-Stadt
REFRESH-INTERVAL;VALUE=DURATION:PT1H
X-Robots-Tag:noindex
X-PUBLISHED-TTL:PT1H
BEGIN:VTIMEZONE
TZID:Europe/Berlin
BEGIN:DAYLIGHT
TZOFFSETFROM:+0100
TZOFFSETTO:+0200
TZNAME:CEST
DTSTART:20230326T010000
END:DAYLIGHT
BEGIN:STANDARD
TZOFFSETFROM:+0200
TZOFFSETTO:+0100
TZNAME:CET
DTSTART:20231029T010000
END:STANDARD
BEGIN:DAYLIGHT
TZOFFSETFROM:+0100
TZOFFSETTO:+0200
TZNAME:CEST
DTSTART:20240331T010000
END:DAYLIGHT
BEGIN:STANDARD
TZOFFSETFROM:+0200
TZOFFSETTO:+0100
TZNAME:CET
DTSTART:20241027T010000
END:STANDARD
BEGIN:DAYLIGHT
TZOFFSETFROM:+0100
TZOFFSETTO:+0200
TZNAME:CEST
DTSTART:20250330T010000
END:DAYLIGHT
BEGIN:STANDARD
TZOFFSETFROM:+0200
TZOFFSETTO:+0100
TZNAME:CET
DTSTART:20251026T010000
END:STANDARD
END:VTIMEZONE
BEGIN:VEVENT
DTSTART;TZID=Europe/Berlin:20240714T000000
DTEND;TZID=Europe/Berlin:20240714T235959
DTSTAMP:20260423T050218
CREATED:20240610T060147Z
LAST-MODIFIED:20240610T060315Z
UID:2139-1720915200-1721001599@skvharburgstadt.de
SUMMARY:Rönneburger Sommerfest
DESCRIPTION:shR4qlAH3yUt-20240422_Entwurf-Sommerfest-Plakat_v03Herunterladen
URL:https://skvharburgstadt.de/event/roenneburger-sommerfest/
LOCATION:Schützenverein Rönneburg u. Umgegend von 1897 e.V.\, Küsterweg 15\, Hamburg\, 21079\, Deutschland
CATEGORIES:Vereinsveranstalltung
END:VEVENT
END:VCALENDAR