BEGIN:VCALENDAR
VERSION:2.0
PRODID:-//Schützenkreisverband Harburg-Stadt - ECPv6.15.18//NONSGML v1.0//EN
CALSCALE:GREGORIAN
METHOD:PUBLISH
X-WR-CALNAME:Schützenkreisverband Harburg-Stadt
X-ORIGINAL-URL:https://skvharburgstadt.de
X-WR-CALDESC:Veranstaltungen für Schützenkreisverband Harburg-Stadt
REFRESH-INTERVAL;VALUE=DURATION:PT1H
X-Robots-Tag:noindex
X-PUBLISHED-TTL:PT1H
BEGIN:VTIMEZONE
TZID:Europe/Berlin
BEGIN:DAYLIGHT
TZOFFSETFROM:+0100
TZOFFSETTO:+0200
TZNAME:CEST
DTSTART:20230326T010000
END:DAYLIGHT
BEGIN:STANDARD
TZOFFSETFROM:+0200
TZOFFSETTO:+0100
TZNAME:CET
DTSTART:20231029T010000
END:STANDARD
BEGIN:DAYLIGHT
TZOFFSETFROM:+0100
TZOFFSETTO:+0200
TZNAME:CEST
DTSTART:20240331T010000
END:DAYLIGHT
BEGIN:STANDARD
TZOFFSETFROM:+0200
TZOFFSETTO:+0100
TZNAME:CET
DTSTART:20241027T010000
END:STANDARD
BEGIN:DAYLIGHT
TZOFFSETFROM:+0100
TZOFFSETTO:+0200
TZNAME:CEST
DTSTART:20250330T010000
END:DAYLIGHT
BEGIN:STANDARD
TZOFFSETFROM:+0200
TZOFFSETTO:+0100
TZNAME:CET
DTSTART:20251026T010000
END:STANDARD
END:VTIMEZONE
BEGIN:VEVENT
DTSTART;TZID=Europe/Berlin:20240107T180000
DTEND;TZID=Europe/Berlin:20240107T235900
DTSTAMP:20260425T170343
CREATED:20240107T210840Z
LAST-MODIFIED:20240107T211117Z
UID:1361-1704650400-1704671940@skvharburgstadt.de
SUMMARY:Landeskönigsball
DESCRIPTION:
URL:https://skvharburgstadt.de/event/landeskoenigsball/
LOCATION:PRIVATHOTEL LINDTNER\, Heimfelder Str. 123\, Hamburg\, Hamburg\, 21075\, Deutschland
CATEGORIES:Landesverband
END:VEVENT
BEGIN:VEVENT
DTSTART;TZID=Europe/Berlin:20240119T190000
DTEND;TZID=Europe/Berlin:20240119T220000
DTSTAMP:20260425T170343
CREATED:20240107T210416Z
LAST-MODIFIED:20240107T211053Z
UID:1359-1705690800-1705701600@skvharburgstadt.de
SUMMARY:Kreisdelegierten-Tagung
DESCRIPTION:Bitte in Schützenkleidung erscheinen.
URL:https://skvharburgstadt.de/event/kreisdelegierten-tagung-2/
LOCATION:Landhaus Jägerhof\, Ehestorfer Heuweg 12 bis 14\, Hamburg\, 21149
CATEGORIES:Kreisverband
END:VEVENT
BEGIN:VEVENT
DTSTART;TZID=Europe/Berlin:20240127T000000
DTEND;TZID=Europe/Berlin:20240128T235959
DTSTAMP:20260425T170343
CREATED:20240107T212919Z
LAST-MODIFIED:20240107T213343Z
UID:1392-1706313600-1706486399@skvharburgstadt.de
SUMMARY:KM Luftgewehr-Auflage DSB
DESCRIPTION:KM 1.11
URL:https://skvharburgstadt.de/event/luftgewehr-auflage-dsb/
LOCATION:Eißendorfer Schützenverein von 1878 e.V.\, Strucksbarg 37a\, Hamburg\, 21077\, Deutschland
CATEGORIES:Kreismeisterschaft
END:VEVENT
BEGIN:VEVENT
DTSTART;TZID=Europe/Berlin:20240127T080000
DTEND;TZID=Europe/Berlin:20240128T170000
DTSTAMP:20260425T170343
CREATED:20240107T212815Z
LAST-MODIFIED:20240107T213330Z
UID:1390-1706342400-1706461200@skvharburgstadt.de
SUMMARY:KM Luftgewehr-Auflage HH
DESCRIPTION:KM 9.10 HH
URL:https://skvharburgstadt.de/event/luftgewehr-auflage-hh/
LOCATION:Eißendorfer Schützenverein von 1878 e.V.\, Strucksbarg 37a\, Hamburg\, 21077\, Deutschland
CATEGORIES:Kreismeisterschaft
END:VEVENT
END:VCALENDAR