BEGIN:VCALENDAR
VERSION:2.0
PRODID:-//Schützenkreisverband Harburg-Stadt - ECPv6.15.18//NONSGML v1.0//EN
CALSCALE:GREGORIAN
METHOD:PUBLISH
X-WR-CALNAME:Schützenkreisverband Harburg-Stadt
X-ORIGINAL-URL:https://skvharburgstadt.de
X-WR-CALDESC:Veranstaltungen für Schützenkreisverband Harburg-Stadt
REFRESH-INTERVAL;VALUE=DURATION:PT1H
X-Robots-Tag:noindex
X-PUBLISHED-TTL:PT1H
BEGIN:VTIMEZONE
TZID:Europe/Berlin
BEGIN:DAYLIGHT
TZOFFSETFROM:+0100
TZOFFSETTO:+0200
TZNAME:CEST
DTSTART:20230326T010000
END:DAYLIGHT
BEGIN:STANDARD
TZOFFSETFROM:+0200
TZOFFSETTO:+0100
TZNAME:CET
DTSTART:20231029T010000
END:STANDARD
BEGIN:DAYLIGHT
TZOFFSETFROM:+0100
TZOFFSETTO:+0200
TZNAME:CEST
DTSTART:20240331T010000
END:DAYLIGHT
BEGIN:STANDARD
TZOFFSETFROM:+0200
TZOFFSETTO:+0100
TZNAME:CET
DTSTART:20241027T010000
END:STANDARD
BEGIN:DAYLIGHT
TZOFFSETFROM:+0100
TZOFFSETTO:+0200
TZNAME:CEST
DTSTART:20250330T010000
END:DAYLIGHT
BEGIN:STANDARD
TZOFFSETFROM:+0200
TZOFFSETTO:+0100
TZNAME:CET
DTSTART:20251026T010000
END:STANDARD
END:VTIMEZONE
BEGIN:VEVENT
DTSTART;TZID=Europe/Berlin:20240907T000000
DTEND;TZID=Europe/Berlin:20240907T235959
DTSTAMP:20260423T021346
CREATED:20240107T211652Z
LAST-MODIFIED:20240821T171050Z
UID:1374-1725667200-1725753599@skvharburgstadt.de
SUMMARY:Kreiskinderkönig Lichtschießen
DESCRIPTION:Kinderkönig_2024_Einladung_und_AusschreibungHerunterladen
URL:https://skvharburgstadt.de/event/kreiskinderkoenig-lichtschiessen/
LOCATION:Schützenverein Neuenfelde 1912 e.V.\, Arp-Schnitger-Stieg 37b\, Hamburg\, 21129
CATEGORIES:Kreisverband
END:VEVENT
END:VCALENDAR